BEGIN:VCALENDAR
VERSION:2.0
PRODID:-//Luis&amp;Rosa Music - ECPv6.15.20//NONSGML v1.0//EN
CALSCALE:GREGORIAN
METHOD:PUBLISH
X-ORIGINAL-URL:https://luisyrosa.com
X-WR-CALDESC:Events for Luis&amp;Rosa Music
REFRESH-INTERVAL;VALUE=DURATION:PT1H
X-Robots-Tag:noindex
X-PUBLISHED-TTL:PT1H
BEGIN:VTIMEZONE
TZID:Europe/Helsinki
BEGIN:DAYLIGHT
TZOFFSETFROM:+0200
TZOFFSETTO:+0300
TZNAME:EEST
DTSTART:20210328T010000
END:DAYLIGHT
BEGIN:STANDARD
TZOFFSETFROM:+0300
TZOFFSETTO:+0200
TZNAME:EET
DTSTART:20211031T010000
END:STANDARD
BEGIN:DAYLIGHT
TZOFFSETFROM:+0200
TZOFFSETTO:+0300
TZNAME:EEST
DTSTART:20220327T010000
END:DAYLIGHT
BEGIN:STANDARD
TZOFFSETFROM:+0300
TZOFFSETTO:+0200
TZNAME:EET
DTSTART:20221030T010000
END:STANDARD
BEGIN:DAYLIGHT
TZOFFSETFROM:+0200
TZOFFSETTO:+0300
TZNAME:EEST
DTSTART:20230326T010000
END:DAYLIGHT
BEGIN:STANDARD
TZOFFSETFROM:+0300
TZOFFSETTO:+0200
TZNAME:EET
DTSTART:20231029T010000
END:STANDARD
END:VTIMEZONE
BEGIN:VEVENT
DTSTART;TZID=Europe/Helsinki:20220402T220000
DTEND;TZID=Europe/Helsinki:20220402T220000
DTSTAMP:20260420T234447
CREATED:20240221T121218Z
LAST-MODIFIED:20241025T124141Z
UID:1890-1648936800-1648936800@luisyrosa.com
SUMMARY:LR Quartet alias Le Cartel de la Rose
DESCRIPTION:
URL:https://luisyrosa.com/event/lr-quartet-2/
LOCATION:Salle des Vignerons\, NANS LES PINS\, 83860\, France
CATEGORIES:LR Quartet
ATTACH;FMTTYPE=image/jpeg:https://luisyrosa.com/wp-content/uploads/2024/10/LRQ_Photo.jpg
END:VEVENT
BEGIN:VEVENT
DTSTART;TZID=Europe/Helsinki:20220424T190000
DTEND;TZID=Europe/Helsinki:20220424T190000
DTSTAMP:20260420T234447
CREATED:20220225T121943Z
LAST-MODIFIED:20241025T122141Z
UID:2923-1650826800-1650826800@luisyrosa.com
SUMMARY:LR Duo
DESCRIPTION:
URL:https://luisyrosa.com/event/lr-duo-8/
LOCATION:LA COQUILLADE\, La Coquillade Ressort\, GARGAS\, 84400\, France
CATEGORIES:LR Duo
ATTACH;FMTTYPE=image/jpeg:https://luisyrosa.com/wp-content/uploads/2020/09/luisrosa11.jpg
END:VEVENT
END:VCALENDAR