BEGIN:VCALENDAR
VERSION:2.0
PRODID:-//Luis&amp;Rosa Music - ECPv6.15.20//NONSGML v1.0//EN
CALSCALE:GREGORIAN
METHOD:PUBLISH
X-WR-CALNAME:Luis&amp;Rosa Music
X-ORIGINAL-URL:https://luisyrosa.com
X-WR-CALDESC:Events for Luis&amp;Rosa Music
REFRESH-INTERVAL;VALUE=DURATION:PT1H
X-Robots-Tag:noindex
X-PUBLISHED-TTL:PT1H
BEGIN:VTIMEZONE
TZID:Europe/Helsinki
BEGIN:DAYLIGHT
TZOFFSETFROM:+0200
TZOFFSETTO:+0300
TZNAME:EEST
DTSTART:20200329T010000
END:DAYLIGHT
BEGIN:STANDARD
TZOFFSETFROM:+0300
TZOFFSETTO:+0200
TZNAME:EET
DTSTART:20201025T010000
END:STANDARD
BEGIN:DAYLIGHT
TZOFFSETFROM:+0200
TZOFFSETTO:+0300
TZNAME:EEST
DTSTART:20210328T010000
END:DAYLIGHT
BEGIN:STANDARD
TZOFFSETFROM:+0300
TZOFFSETTO:+0200
TZNAME:EET
DTSTART:20211031T010000
END:STANDARD
BEGIN:DAYLIGHT
TZOFFSETFROM:+0200
TZOFFSETTO:+0300
TZNAME:EEST
DTSTART:20220327T010000
END:DAYLIGHT
BEGIN:STANDARD
TZOFFSETFROM:+0300
TZOFFSETTO:+0200
TZNAME:EET
DTSTART:20221030T010000
END:STANDARD
END:VTIMEZONE
BEGIN:VEVENT
DTSTART;TZID=Europe/Helsinki:20210812T200000
DTEND;TZID=Europe/Helsinki:20210812T200000
DTSTAMP:20260421T121328
CREATED:20210602T113902Z
LAST-MODIFIED:20260302T114321Z
UID:3484-1628798400-1628798400@luisyrosa.com
SUMMARY:Nyons Festiv'été - Le cartel de la Rose
DESCRIPTION:
URL:https://luisyrosa.com/event/nyons-festivete-le-cartel-de-la-rose/
LOCATION:Theatre de Verdure\, 96 Prom. de la Digue\, Nyons\, 26110\, France
CATEGORIES:LR Quartet
ATTACH;FMTTYPE=image/jpeg:https://luisyrosa.com/wp-content/uploads/2026/03/IMG_5980.jpg
END:VEVENT
BEGIN:VEVENT
DTSTART;TZID=Europe/Helsinki:20210813T220000
DTEND;TZID=Europe/Helsinki:20210813T220000
DTSTAMP:20260421T121328
CREATED:20240221T121934Z
LAST-MODIFIED:20240221T123553Z
UID:1902-1628892000-1628892000@luisyrosa.com
SUMMARY:LR Quartet alias Le Cartel de la Rose
DESCRIPTION:
URL:https://luisyrosa.com/event/lr-quartet-6/
LOCATION:TULETTE\, 60 place du cours\, TULETTE\, 26790\, France
CATEGORIES:LR Quartet
ATTACH;FMTTYPE=image/png:https://luisyrosa.com/wp-content/uploads/2023/09/LOGO-LRQ.png
END:VEVENT
BEGIN:VEVENT
DTSTART;TZID=Europe/Helsinki:20210818T220000
DTEND;TZID=Europe/Helsinki:20210818T220000
DTSTAMP:20260421T121328
CREATED:20240221T121746Z
LAST-MODIFIED:20240221T123548Z
UID:1899-1629324000-1629324000@luisyrosa.com
SUMMARY:LR Quartet alias Le Cartel de la Rose
DESCRIPTION:
URL:https://luisyrosa.com/event/lr-quartet-5/
LOCATION:CHÂTEAU DE MONTCLUS\, Place du chateau\, MONTCLUS\, 30630
CATEGORIES:LR Quartet
ATTACH;FMTTYPE=image/png:https://luisyrosa.com/wp-content/uploads/2023/09/LOGO-LRQ.png
END:VEVENT
BEGIN:VEVENT
DTSTART;TZID=Europe/Helsinki:20210826T220000
DTEND;TZID=Europe/Helsinki:20210826T220000
DTSTAMP:20260421T121328
CREATED:20240221T121555Z
LAST-MODIFIED:20240221T123540Z
UID:1896-1630015200-1630015200@luisyrosa.com
SUMMARY:LR Quartet alias Le Cartel de la Rose
DESCRIPTION:
URL:https://luisyrosa.com/event/lr-quartet-4/
LOCATION:GARGAS\, Place de la mairie\, GARGAS\, 84400\, France
CATEGORIES:LR Quartet
ATTACH;FMTTYPE=image/png:https://luisyrosa.com/wp-content/uploads/2023/09/LOGO-LRQ.png
END:VEVENT
END:VCALENDAR