BEGIN:VCALENDAR
VERSION:2.0
PRODID:-//Luis&amp;Rosa Music - ECPv6.15.20//NONSGML v1.0//EN
CALSCALE:GREGORIAN
METHOD:PUBLISH
X-WR-CALNAME:Luis&amp;Rosa Music
X-ORIGINAL-URL:https://luisyrosa.com
X-WR-CALDESC:Events for Luis&amp;Rosa Music
REFRESH-INTERVAL;VALUE=DURATION:PT1H
X-Robots-Tag:noindex
X-PUBLISHED-TTL:PT1H
BEGIN:VTIMEZONE
TZID:Europe/Helsinki
BEGIN:DAYLIGHT
TZOFFSETFROM:+0200
TZOFFSETTO:+0300
TZNAME:EEST
DTSTART:20190331T010000
END:DAYLIGHT
BEGIN:STANDARD
TZOFFSETFROM:+0300
TZOFFSETTO:+0200
TZNAME:EET
DTSTART:20191027T010000
END:STANDARD
BEGIN:DAYLIGHT
TZOFFSETFROM:+0200
TZOFFSETTO:+0300
TZNAME:EEST
DTSTART:20200329T010000
END:DAYLIGHT
BEGIN:STANDARD
TZOFFSETFROM:+0300
TZOFFSETTO:+0200
TZNAME:EET
DTSTART:20201025T010000
END:STANDARD
BEGIN:DAYLIGHT
TZOFFSETFROM:+0200
TZOFFSETTO:+0300
TZNAME:EEST
DTSTART:20210328T010000
END:DAYLIGHT
BEGIN:STANDARD
TZOFFSETFROM:+0300
TZOFFSETTO:+0200
TZNAME:EET
DTSTART:20211031T010000
END:STANDARD
END:VTIMEZONE
BEGIN:VEVENT
DTSTART;TZID=Europe/Helsinki:20200802T190000
DTEND;TZID=Europe/Helsinki:20200802T190000
DTSTAMP:20260424T024727
CREATED:20200625T125548Z
LAST-MODIFIED:20241025T125643Z
UID:2964-1596394800-1596394800@luisyrosa.com
SUMMARY:LR Duo
DESCRIPTION:
URL:https://luisyrosa.com/event/lr-duo-20/
LOCATION:VÉZÉNOBRES\, Place de la Mairie\, VÉZÉNOBRES\, 30360\, France
CATEGORIES:LR Duo
ATTACH;FMTTYPE=image/jpeg:https://luisyrosa.com/wp-content/uploads/2020/09/dsc_5950.jpg
END:VEVENT
BEGIN:VEVENT
DTSTART;TZID=Europe/Helsinki:20200807T080000
DTEND;TZID=Europe/Helsinki:20200807T170000
DTSTAMP:20260424T024727
CREATED:20200625T125648Z
LAST-MODIFIED:20241025T125729Z
UID:2966-1596787200-1596819600@luisyrosa.com
SUMMARY:LR Duo
DESCRIPTION:
URL:https://luisyrosa.com/event/lr-duo-21/
LOCATION:VÉZÉNOBRES\, Place de la Mairie\, VÉZÉNOBRES\, 30360\, France
CATEGORIES:LR Duo
ATTACH;FMTTYPE=image/jpeg:https://luisyrosa.com/wp-content/uploads/2020/09/dsc_5950.jpg
END:VEVENT
END:VCALENDAR