BEGIN:VCALENDAR
VERSION:2.0
PRODID:-//Luis&amp;Rosa Music - ECPv6.15.20//NONSGML v1.0//EN
CALSCALE:GREGORIAN
METHOD:PUBLISH
X-ORIGINAL-URL:https://luisyrosa.com
X-WR-CALDESC:Events for Luis&amp;Rosa Music
REFRESH-INTERVAL;VALUE=DURATION:PT1H
X-Robots-Tag:noindex
X-PUBLISHED-TTL:PT1H
BEGIN:VTIMEZONE
TZID:Europe/Helsinki
BEGIN:DAYLIGHT
TZOFFSETFROM:+0200
TZOFFSETTO:+0300
TZNAME:EEST
DTSTART:20240331T010000
END:DAYLIGHT
BEGIN:STANDARD
TZOFFSETFROM:+0300
TZOFFSETTO:+0200
TZNAME:EET
DTSTART:20241027T010000
END:STANDARD
BEGIN:DAYLIGHT
TZOFFSETFROM:+0200
TZOFFSETTO:+0300
TZNAME:EEST
DTSTART:20250330T010000
END:DAYLIGHT
BEGIN:STANDARD
TZOFFSETFROM:+0300
TZOFFSETTO:+0200
TZNAME:EET
DTSTART:20251026T010000
END:STANDARD
BEGIN:DAYLIGHT
TZOFFSETFROM:+0200
TZOFFSETTO:+0300
TZNAME:EEST
DTSTART:20260329T010000
END:DAYLIGHT
BEGIN:STANDARD
TZOFFSETFROM:+0300
TZOFFSETTO:+0200
TZNAME:EET
DTSTART:20261025T010000
END:STANDARD
BEGIN:DAYLIGHT
TZOFFSETFROM:+0200
TZOFFSETTO:+0300
TZNAME:EEST
DTSTART:20270328T010000
END:DAYLIGHT
BEGIN:STANDARD
TZOFFSETFROM:+0300
TZOFFSETTO:+0200
TZNAME:EET
DTSTART:20271031T010000
END:STANDARD
END:VTIMEZONE
BEGIN:VEVENT
DTSTART;TZID=Europe/Helsinki:20250712T210000
DTEND;TZID=Europe/Helsinki:20250712T210000
DTSTAMP:20260423T143811
CREATED:20250406T050922Z
LAST-MODIFIED:20250406T050931Z
UID:3147-1752354000-1752354000@luisyrosa.com
SUMMARY:Festival "Port en Fête"
DESCRIPTION:
URL:https://luisyrosa.com/event/festival-port-en-fete/
LOCATION:Amphithéâtre du Port\, Port de plaisance\, Colombiers\, 34440\, France
CATEGORIES:LR Duo
ATTACH;FMTTYPE=image/jpeg:https://luisyrosa.com/wp-content/uploads/2020/09/luisrosa13.jpg
END:VEVENT
BEGIN:VEVENT
DTSTART;TZID=Europe/Helsinki:20250714T200000
DTEND;TZID=Europe/Helsinki:20250714T200000
DTSTAMP:20260423T143811
CREATED:20250610T003700Z
LAST-MODIFIED:20250610T003700Z
UID:3163-1752523200-1752523200@luisyrosa.com
SUMMARY:Luis&Rosa Duo
DESCRIPTION:
URL:https://luisyrosa.com/event/luisrosa-duo-5/
LOCATION:Suisse d’Alger\, Place Dampmartin\, Uzès\, 30700\, France
CATEGORIES:LR Duo
ATTACH;FMTTYPE=image/jpeg:https://luisyrosa.com/wp-content/uploads/2024/07/1.jpeg
END:VEVENT
BEGIN:VEVENT
DTSTART;TZID=Europe/Helsinki:20250807T190000
DTEND;TZID=Europe/Helsinki:20250807T190000
DTSTAMP:20260423T143811
CREATED:20250611T084238Z
LAST-MODIFIED:20250611T084238Z
UID:3175-1754593200-1754593200@luisyrosa.com
SUMMARY:Les Estivales de Brignoles
DESCRIPTION:
URL:https://luisyrosa.com/event/les-estivales-de-brignoles/
LOCATION:Estivales de Brignoles\, Square St Louis\, Brignoles\, 83170\, France
CATEGORIES:LR Duo
ATTACH;FMTTYPE=image/jpeg:https://luisyrosa.com/wp-content/uploads/2020/09/luisrosa13.jpg
END:VEVENT
BEGIN:VEVENT
DTSTART;TZID=Europe/Helsinki:20250808T200000
DTEND;TZID=Europe/Helsinki:20250808T200000
DTSTAMP:20260423T143811
CREATED:20250618T115615Z
LAST-MODIFIED:20250618T115615Z
UID:3180-1754683200-1754683200@luisyrosa.com
SUMMARY:Luis&Rosa Duo
DESCRIPTION:
URL:https://luisyrosa.com/event/luisrosa-duo-9/
LOCATION:Le Cabanon du Papi\, 1194 Chem. de Saint-Jean\, Lagnes\, 84800\, France
CATEGORIES:LR Duo
ATTACH;FMTTYPE=image/jpeg:https://luisyrosa.com/wp-content/uploads/2020/09/dsc_5950.jpg
END:VEVENT
BEGIN:VEVENT
DTSTART;TZID=Europe/Helsinki:20250821T203000
DTEND;TZID=Europe/Helsinki:20250821T203000
DTSTAMP:20260423T143811
CREATED:20250729T031706Z
LAST-MODIFIED:20250729T032856Z
UID:3202-1755808200-1755808200@luisyrosa.com
SUMMARY:Luis&Rosa Duo
DESCRIPTION:Diner spectacle dès 19h à 25€ \nConcert seul à 20h30\, 10€ \nRéservations: 04 75 38 72 39
URL:https://luisyrosa.com/event/luisrosa-duo-10/
LOCATION:Hôtel-Restaurant La Montagne\, Place de la Résistance\, Antraigues-sur-Volane\, 07530\, France
CATEGORIES:LR Duo
ATTACH;FMTTYPE=image/jpeg:https://luisyrosa.com/wp-content/uploads/2020/09/86BA419E-CD24-421A-B341-A1A783FD558F.jpg
END:VEVENT
BEGIN:VEVENT
DTSTART;TZID=Europe/Helsinki:20250927T190000
DTEND;TZID=Europe/Helsinki:20250927T190000
DTSTAMP:20260423T143811
CREATED:20250912T085836Z
LAST-MODIFIED:20250912T085836Z
UID:3207-1758999600-1758999600@luisyrosa.com
SUMMARY:Festival Le Bal des Bavards
DESCRIPTION:
URL:https://luisyrosa.com/event/festival-le-bal-des-bavards/
LOCATION:Médiathèque Saint-Pons\, 2 Pl. Saint-Pons\, Villeneuve-lès-Avignon\, 30400\, France
CATEGORIES:LR Duo
ATTACH;FMTTYPE=image/jpeg:https://luisyrosa.com/wp-content/uploads/2020/09/luisrosa13.jpg
END:VEVENT
BEGIN:VEVENT
DTSTART;TZID=Europe/Helsinki:20251016T203000
DTEND;TZID=Europe/Helsinki:20251016T203000
DTSTAMP:20260423T143811
CREATED:20250626T061149Z
LAST-MODIFIED:20250626T061149Z
UID:3183-1760646600-1760646600@luisyrosa.com
SUMMARY:Nimes Metropole Jazz Festival
DESCRIPTION:En 1ere Partie du pianiste cubain Alfredo Rodriguez. \nBilletterie: https://www.nmjf.fr/billetterie
URL:https://luisyrosa.com/event/nimes-metropole-jazz-festival/
LOCATION:Foyer Lucie Aubrac\, Foyer Lucie Aubrac\, Domessargues\, 30104\, France
CATEGORIES:LR Duo
ATTACH;FMTTYPE=image/jpeg:https://luisyrosa.com/wp-content/uploads/2025/06/Affiche.jpg
END:VEVENT
BEGIN:VEVENT
DTSTART;TZID=Europe/Helsinki:20251018T180000
DTEND;TZID=Europe/Helsinki:20251018T180000
DTSTAMP:20260423T143811
CREATED:20251014T060129Z
LAST-MODIFIED:20251014T060200Z
UID:3211-1760810400-1760810400@luisyrosa.com
SUMMARY:Envolées Hispaniques
DESCRIPTION:
URL:https://luisyrosa.com/event/envolees-hispaniques/
LOCATION:Maison de Pays de Nyons\, 128 Prom. de la Digue\, Nyons\, 26110\, France
CATEGORIES:LR Duo
ATTACH;FMTTYPE=image/jpeg:https://luisyrosa.com/wp-content/uploads/2025/10/ENVOLEES-HISPANIQUES-18-OCT-2025-scaled.jpg
END:VEVENT
BEGIN:VEVENT
DTSTART;TZID=Europe/Helsinki:20260529T190000
DTEND;TZID=Europe/Helsinki:20260529T190000
DTSTAMP:20260423T143811
CREATED:20260227T181631Z
LAST-MODIFIED:20260227T181631Z
UID:3481-1780081200-1780081200@luisyrosa.com
SUMMARY:LR Duo
DESCRIPTION:
URL:https://luisyrosa.com/event/lr-duo-27/
LOCATION:Zig Zag\, 10 route de Bourdeau\, Saou\, 26400\, France
CATEGORIES:LR Duo
ATTACH;FMTTYPE=image/jpeg:https://luisyrosa.com/wp-content/uploads/2020/09/luisrosa13.jpg
END:VEVENT
BEGIN:VEVENT
DTSTART;TZID=Europe/Helsinki:20260702T200000
DTEND;TZID=Europe/Helsinki:20260702T200000
DTSTAMP:20260423T143811
CREATED:20260324T054411Z
LAST-MODIFIED:20260324T061343Z
UID:3511-1783022400-1783022400@luisyrosa.com
SUMMARY:LR duo
DESCRIPTION:Marché Nocturne de Saint-Paul-Trois-Châteaux.
URL:https://luisyrosa.com/event/lr-duo-28/
LOCATION:Saint-Paul-Trois-Châteaux\, Place de la Liberation\, Saint-Paul-Trois-Châteaux\, 26324\, France
CATEGORIES:LR Duo
ATTACH;FMTTYPE=image/jpeg:https://luisyrosa.com/wp-content/uploads/2020/09/luisrosa13.jpg
END:VEVENT
BEGIN:VEVENT
DTSTART;TZID=Europe/Helsinki:20260703T190000
DTEND;TZID=Europe/Helsinki:20260703T190000
DTSTAMP:20260423T143811
CREATED:20260311T093547Z
LAST-MODIFIED:20260311T094326Z
UID:3492-1783105200-1783105200@luisyrosa.com
SUMMARY:LR Duo
DESCRIPTION:
URL:https://luisyrosa.com/event/louisrosa-duo/
LOCATION:Le Cabanon du Papi\, 1194 Chem. de Saint-Jean\, Lagnes\, 84800\, France
CATEGORIES:LR Duo
ATTACH;FMTTYPE=image/jpeg:https://luisyrosa.com/wp-content/uploads/2020/09/luisrosa13.jpg
END:VEVENT
BEGIN:VEVENT
DTSTART;TZID=Europe/Helsinki:20260730T200000
DTEND;TZID=Europe/Helsinki:20260730T200000
DTSTAMP:20260423T143811
CREATED:20260324T054551Z
LAST-MODIFIED:20260402T212842Z
UID:3514-1785441600-1785441600@luisyrosa.com
SUMMARY:LR duo
DESCRIPTION:Marché Nocturne de Saint-Paul-Trois-Châteaux.
URL:https://luisyrosa.com/event/lr-duo-29/
LOCATION:Saint-Paul-Trois-Châteaux\, Place de la Liberation\, Saint-Paul-Trois-Châteaux\, 26324\, France
CATEGORIES:LR Duo
ATTACH;FMTTYPE=image/jpeg:https://luisyrosa.com/wp-content/uploads/2020/09/luisrosa13.jpg
END:VEVENT
BEGIN:VEVENT
DTSTART;TZID=Europe/Helsinki:20260808T190000
DTEND;TZID=Europe/Helsinki:20260808T190000
DTSTAMP:20260423T143811
CREATED:20260324T055447Z
LAST-MODIFIED:20260324T061245Z
UID:3520-1786215600-1786215600@luisyrosa.com
SUMMARY:LR Duo
DESCRIPTION:Réservation recommandée.
URL:https://luisyrosa.com/event/lr-duo-30/
LOCATION:Domaine Perreal\, 1342 Route du Jas\, Gargas\, 84400\, France
CATEGORIES:LR Duo
ATTACH;FMTTYPE=image/jpeg:https://luisyrosa.com/wp-content/uploads/2020/09/luisrosa13.jpg
END:VEVENT
BEGIN:VEVENT
DTSTART;TZID=Europe/Helsinki:20260812T190000
DTEND;TZID=Europe/Helsinki:20260812T190000
DTSTAMP:20260423T143811
CREATED:20260324T055733Z
LAST-MODIFIED:20260324T061207Z
UID:3522-1786561200-1786561200@luisyrosa.com
SUMMARY:LR Duo
DESCRIPTION:
URL:https://luisyrosa.com/event/lr-duo-31/
LOCATION:Salle Ferrier\, 10 Rue Portail de Perry\, Sumène\, 30440\, France
CATEGORIES:LR Duo
ATTACH;FMTTYPE=image/jpeg:https://luisyrosa.com/wp-content/uploads/2020/09/luisrosa13.jpg
END:VEVENT
BEGIN:VEVENT
DTSTART;TZID=Europe/Helsinki:20260829T190000
DTEND;TZID=Europe/Helsinki:20260829T190000
DTSTAMP:20260423T143811
CREATED:20260324T060002Z
LAST-MODIFIED:20260324T060856Z
UID:3525-1788030000-1788030000@luisyrosa.com
SUMMARY:LR Duo
DESCRIPTION:
URL:https://luisyrosa.com/event/lr-duo-32/
LOCATION:Le jardin Singulier\, Maison forestière\, Chanteperdrix\, Saint-Léger-du-Ventoux\, 84390\, France
CATEGORIES:LR Duo
ATTACH;FMTTYPE=image/jpeg:https://luisyrosa.com/wp-content/uploads/2020/09/luisrosa13.jpg
END:VEVENT
END:VCALENDAR